BEGIN:VCALENDAR
VERSION:2.0
PRODID:-//Tankesmedjan Tiden - ECPv6.15.20//NONSGML v1.0//EN
CALSCALE:GREGORIAN
METHOD:PUBLISH
X-WR-CALNAME:Tankesmedjan Tiden
X-ORIGINAL-URL:https://tankesmedjantiden.se
X-WR-CALDESC:Händelser för Tankesmedjan Tiden
REFRESH-INTERVAL;VALUE=DURATION:PT1H
X-Robots-Tag:noindex
X-PUBLISHED-TTL:PT1H
BEGIN:VTIMEZONE
TZID:Europe/Stockholm
BEGIN:DAYLIGHT
TZOFFSETFROM:+0100
TZOFFSETTO:+0200
TZNAME:CEST
DTSTART:20130331T010000
END:DAYLIGHT
BEGIN:STANDARD
TZOFFSETFROM:+0200
TZOFFSETTO:+0100
TZNAME:CET
DTSTART:20131027T010000
END:STANDARD
BEGIN:DAYLIGHT
TZOFFSETFROM:+0100
TZOFFSETTO:+0200
TZNAME:CEST
DTSTART:20140330T010000
END:DAYLIGHT
BEGIN:STANDARD
TZOFFSETFROM:+0200
TZOFFSETTO:+0100
TZNAME:CET
DTSTART:20141026T010000
END:STANDARD
BEGIN:DAYLIGHT
TZOFFSETFROM:+0100
TZOFFSETTO:+0200
TZNAME:CEST
DTSTART:20150329T010000
END:DAYLIGHT
BEGIN:STANDARD
TZOFFSETFROM:+0200
TZOFFSETTO:+0100
TZNAME:CET
DTSTART:20151025T010000
END:STANDARD
END:VTIMEZONE
BEGIN:VEVENT
DTSTART;TZID=Europe/Stockholm:20141105T153000
DTEND;TZID=Europe/Stockholm:20141105T173000
DTSTAMP:20260423T210535
CREATED:20141021T092519Z
LAST-MODIFIED:20141021T092519Z
UID:9107-1415201400-1415208600@tankesmedjantiden.se
SUMMARY:”How We Actually Got Rich: The Liberal Plan of Equality”
DESCRIPTION:Den 5 november arrangerar Entreprenörskapsforum Swedish Schumpeter Lecture 2014. Denna gång föreläser Deirdre McCloskey professor i ekonomi\, historia\, engelska och kommunikation vid University of Illinois\, Chicago på temat ”How We Actually Got Rich: The Liberal Plan of Equality”.  \nProfessor Deirdre McCloskey är en välkänd ekonom och historiker som har skrivit 16 böcker och nästan 400 artiklar om bland annat ekonomisk teori\, ekonomisk historia\, filosofi\, feminism och etik. McCloskey har beskrivits som en konservativ ekonom men menar själv att hon snarare är en progressiv\, kristen och postmodern förespråkare av fri marknadsekonomi: \n– Jag är en kristen libertarian men inte konservativ ekonom. \nI sin senaste bok Bourgeois Dignity: Why Economics Can’t Explain the Modern World argumenterar hon för att det snarare var en ideologisk förändring än exploatering och sparande som byggde vårt välstånd. Denna förändring innebar ett skifte i fokus\, mot företagande och innovation. McCloskey är också en av de tongivande ekonomer som har riktat kritik mot Thomas Pikettys verk Kapitalet i det tjugoförsta århundradet. \nVarmt välkommen! \nNär: onsdagen den 5 november 2014 kl 15.30–17.45 med efterföljande mingel \nVar: Sing-sing\, KTH\, Lindstedtsvägen 30\, Stockholm \nAnmälan: klicka här! \nProgram: \n15.30 Kaffe och registrering \n16.00 Pontus Braunerhjelm\, vd Entreprenörskapsforum och professor KTH\, hälsar välkommen \n16.05 Deirdre McCloskey – How We Actually Got Rich: The Liberal Plan of Equality \n16.50 Kommentarer och paneldiskussion från bland andra Tankesmedjan Tidens utredningschef Monika Arvidsson \n17.30 Publikfrågor \n17.45 Mingel
URL:https://tankesmedjantiden.se/event/how-we-actually-got-rich-the-liberal-plan-of-equality/
LOCATION:KTH\, Lindstedtsvägen 30\, Stockholm
CATEGORIES:Seminarium
ATTACH;FMTTYPE=:
END:VEVENT
BEGIN:VEVENT
DTSTART;TZID=Europe/Stockholm:20141111T081500
DTEND;TZID=Europe/Stockholm:20141111T085000
DTSTAMP:20260423T210535
CREATED:20141104T093436Z
LAST-MODIFIED:20141104T093436Z
UID:9171-1415693700-1415695800@tankesmedjantiden.se
SUMMARY:Korridorssnack: Magnus Nilsson om TTIP
DESCRIPTION:Magnus Nilsson är utredare vid Tankesmedjan Tiden och har skrivit rapporten om handelsavtalet mellan USA och EU. ’Transatlantic trade and investment partnership’\, ofta kallat TTIP\, har potential att skapa ökad handel och ekonomisk tillväxt men för också med sig en rad demokratiska risker. \nKom gärna och lyssna på en presentation av rapporten\, tisdagen 11 november klockan 08:15 – 08:45. \nRapporten hittar ni här. \nFacebook-evenemang
URL:https://tankesmedjantiden.se/event/korridorssnack-magnus-nilsson-om-ttip/
LOCATION:Tankesmedjan Tiden c/o ABF\, Olof Palmes gata 9\, Stockholm
CATEGORIES:Korridorssnack
ATTACH;FMTTYPE=:
END:VEVENT
BEGIN:VEVENT
DTSTART;TZID=Europe/Stockholm:20141118T090000
DTEND;TZID=Europe/Stockholm:20141118T110000
DTSTAMP:20260423T210535
CREATED:20141103T155104Z
LAST-MODIFIED:20141103T155104Z
UID:9170-1416301200-1416308400@tankesmedjantiden.se
SUMMARY:Vad är alternativet till riskkapitalister i välfärden?
DESCRIPTION:Debatten om välfärden är en av vår tids hetaste politiska diskussioner och mellan vinstbegränsningar och valfrihet lyfts allt oftare kooperativ eller icke-vinstdrivande verksamhet fram som en lösning. Men vilka politiska verktyg finns det egentligen för att stötta värdeburna välfärdsföretag\, varför är denna företagsform så ovanlig i Sverige och hur skulle en bra styrmodell kunna se ut? \nTankesmedjan Tiden arrangerar tillsammans med den kooperativa företagsrådgivarorganisationen Coompanion ett seminarium om socialt företagande och vilka politiska verktyg som behövs för att stötta en sådan verksamhet. \nInledning av Jan Forslund verksamhetsledare vid Coompanion (Sveriges enda kooperativa företagsrådgivarorganisation) \nMedverkande i paneldiskussion\n– Kerstin Alnebratt\, författare till rapporten ”Samordning: Kittet i välfärdsbygget”\n– Tommy Svensson\, författare till rapporten ”Upptäck den sociala ekonomin”\n– Marita Säther\, Bosse stöd- och kunskapscentrum \nModerator: Monika Arvidsson\, utredningschef Tankesmedjan Tiden \nFacebook-event.
URL:https://tankesmedjantiden.se/event/vad-ar-alternativet-till-riskkapitalister-i-valfarden/
LOCATION:LO\, Barnhusgatan 18\, Stockholm\,  105 53 \, Sverige
CATEGORIES:Seminarium
ATTACH;FMTTYPE=:
END:VEVENT
BEGIN:VEVENT
DTSTART;TZID=Europe/Stockholm:20141119T081500
DTEND;TZID=Europe/Stockholm:20141119T084500
DTSTAMP:20260423T210535
CREATED:20141104T094528Z
LAST-MODIFIED:20141104T094528Z
UID:9174-1416384900-1416386700@tankesmedjantiden.se
SUMMARY:Korridorssnack: Det kommande klimattoppmötets möjligheter och utmaningar
DESCRIPTION:Magnus Nilsson\, miljökonsult och miljödebattör föreläser om vilka möjligheter och utmaningar de kommande klimattoppmötena i Lima (COP20) och Paris (COP21) har. Vad säger forskningen måste göras och vad är en realistisk målsättning? Måste EU gå i täten eller finns det andra hinder.  \nVälkomna till ett spännande korridorssnack om klimatet. \nFacebook-eventet.
URL:https://tankesmedjantiden.se/event/korridorssnack-det-kommande-klimattoppmotets-mojligheter-och-utmaningar/
LOCATION:Tankesmedjan Tiden c/o ABF\, Olof Palmes gata 9\, Stockholm
CATEGORIES:Korridorssnack
ATTACH;FMTTYPE=:
END:VEVENT
BEGIN:VEVENT
DTSTART;TZID=Europe/Stockholm:20141122T120000
DTEND;TZID=Europe/Stockholm:20141122T124500
DTSTAMP:20260423T210535
CREATED:20141027T075201Z
LAST-MODIFIED:20141027T075201Z
UID:9125-1416657600-1416660300@tankesmedjantiden.se
SUMMARY:Socialistiskt forum: Hela lönen - Hela tiden
DESCRIPTION:Rätten till heltid är en nödvändighet för en jämlik arbetsmarknad. Ur ett feministiskt perspektiv är frågan särskilt viktig\, då kvinnor jobbar deltid i högre utsträckning än män\, med lägre lön och lägre pension som följd. Vad krävs för att heltid ska bli norm\, och varför är det så viktigt? \n \nPanelister:\nLina Stenberg\, utredare Tankesmedjan Tiden\,\nAnna-Karin Wall\, utredare Kommunal\,\nElinor Odeberg\, ordförande Unga S-kvinnor Rebella\, landstingspolitiker (S)\n\nModerator: Milischia Rezai\, Politisk sekreterare på arbetsmarknadsdepartementet\n\nArrangörer: Tankesmedjan Tiden\, Unga S-kvinnor Rebella\, Fackförbundet Kommunal\n\n\n  \nTid: 12:00 – 12:45 \nPlats: Landsort\, ABF-huset plan 3
URL:https://tankesmedjantiden.se/event/socialistiskt-forum-hela-lonen-hela-tiden/
CATEGORIES:Seminarium
ATTACH;FMTTYPE=:
END:VEVENT
BEGIN:VEVENT
DTSTART;TZID=Europe/Stockholm:20141122T121500
DTEND;TZID=Europe/Stockholm:20141122T130000
DTSTAMP:20260423T210535
CREATED:20141021T075301Z
LAST-MODIFIED:20141021T075301Z
UID:9101-1416658500-1416661200@tankesmedjantiden.se
SUMMARY:Socialistiskt Forum: Den globala ojämlikheten tidsålder                 
DESCRIPTION:I stora delar av världen har ojämlikheten ökat kraftigt de senaste decennierna och forskning kring varför detta sker och vilka konsekvenser det kan få har varit omfattande. Men hur långt har vi kommit i diskussionen?  Detta är ett seminarium som vi använder för att summera forskningsläget och den kringliggande politiska debatten om jämlikhet. Varför sker utveckling just nu? Kan vi vända ojämlikheten och vilka reformer krävs? Vad är nästa steg i debatten och vilka motargument kan vi förvänta oss när frågan om jämlikhet återigen är på allas läppar. \n\n\nPaneldeltagare: Marika Lindgren Åsbrink\, Dan Andersson\, Paulina de los Reyes\n\n\nModerator: Monika Arvidsson\n\nTid: 12:15 – 13:00\nLokal: Brännkyrka\, plan 4 ABF-huset
URL:https://tankesmedjantiden.se/event/socialistiskt-forum-den-globala-ojamlikheten-tidsalder/
LOCATION:ABF Stockholm\, Sveavägen 41\, Stockholm
ATTACH;FMTTYPE=:
END:VEVENT
BEGIN:VEVENT
DTSTART;TZID=Europe/Stockholm:20141122T121500
DTEND;TZID=Europe/Stockholm:20141122T130000
DTSTAMP:20260423T210535
CREATED:20141118T134140Z
LAST-MODIFIED:20141118T134140Z
UID:9305-1416658500-1416661200@tankesmedjantiden.se
SUMMARY:Socialistiskt Forum: Sysselsättning och välfärd i en globaliserad värld
DESCRIPTION:Går det att sänka arbetslösheten utan att orsaka inflation? Hur kan vi stödja dem som varit långtidsarbetslösa så att de kan bli en del av arbetsmarknaden igen? Vad betyder investeringar i infrastruktur och bostadsbyggande för tillväxt och sysselsättning? \nKjell Rautio\, utredare LO\nMonika Arvidsson\, utredningschef Tankesmedjan Tiden\nJan Edling\, analytiker Verdandi\nErik Hegelund\, nationalekonom och författare. \nSamtalsledare: Helena Frisk\, förbundsordförande\, Verdandi \nArrangör: Verdandi \n– See more at: http://abfstockholm.se/socforum/evenemang/sysselsattning-och-valfard-i-en-globaliserad-varld#sthash.qOVqtRsF.dpuf
URL:https://tankesmedjantiden.se/event/socialistiskt-forum-sysselsattning-och-valfard-i-en-globaliserad-varld/
ATTACH;FMTTYPE=:
END:VEVENT
BEGIN:VEVENT
DTSTART;TZID=Europe/Stockholm:20141125T081500
DTEND;TZID=Europe/Stockholm:20141125T084500
DTSTAMP:20260423T210535
CREATED:20141121T153447Z
LAST-MODIFIED:20141121T153447Z
UID:9326-1416903300-1416905100@tankesmedjantiden.se
SUMMARY:Korridorsnack: Vad innehåller egentligen regeringens biståndspolitik?
DESCRIPTION:Denna veckan har vi nöjet att presentera biståndschefen för LO-TCO\, Kristina Henschen. Kristina ska tala om sin syn på den nya regeringens biståndspolitik och vilka förutsättningar och utmaningar det finns. Vad har förändrats? Vad bör förändras? Och kommer regeringens biståndspolitik att vara tillräcklig?Föreläsningen är en del av vårt korridorssnack som vi arrangerar varje tisdag under 30 minuter\, från 08:15 – 08:45. Välkomna!
URL:https://tankesmedjantiden.se/event/korridorsnack-vad-innehaller-egentligen-regeringens-bistandspolitik/
LOCATION:Tankesmedjan Tiden c/o ABF\, Olof Palmes gata 9\, plan 5\, Stockholm
CATEGORIES:Seminarium
ATTACH;FMTTYPE=:
END:VEVENT
END:VCALENDAR